BEGIN:VCALENDAR
CALSCALE:GREGORIAN
VERSION:2.0
METHOD:PUBLISH 
X-WR-CALNAME:
BEGIN:VEVENT
DTSTART;TZID=Europe/Paris:20260530T100000
DTEND;TZID=Europe/Paris:20260530T110000
SUMMARY:Découverte de la bergerie de Sarah : Visite & Dégustation
CATEGORIE:Expositions, Visites et Découvertes
GEO:43.88028330000000;-0.75922380000000
LOCATION:710 route du grangé\, 40400 Saint-Yaguen\, France
URL:https://www.fest.fr/e/2442715
UID:2442715-1@fest.fr
END:VEVENT
BEGIN:VEVENT
DTSTART;TZID=Europe/Paris:20260530T140000
DTEND;TZID=Europe/Paris:20260530T150000
SUMMARY:Découverte de la bergerie de Sarah : Visite & Dégustation
CATEGORIE:Expositions, Visites et Découvertes
GEO:43.88028330000000;-0.75922380000000
LOCATION:710 route du grangé\, 40400 Saint-Yaguen\, France
URL:https://www.fest.fr/e/2442715
UID:2442715-2@fest.fr
END:VEVENT
END:VCALENDAR
