BEGIN:VCALENDAR
CALSCALE:GREGORIAN
VERSION:2.0
METHOD:PUBLISH 
X-WR-CALNAME:
BEGIN:VEVENT
DTSTART;TZID=Europe/Paris:20260416T123456
DTEND;TZID=Europe/Paris:20260416T133456
SUMMARY:Visite guidée : Tissage Moutet
CATEGORIE:Expositions, Visites et Découvertes
GEO:43.47969000000000;-0.76222000000000
LOCATION:Rue du Souvenir Français
Tissage Moutet\, 64300 Orthez\, France
URL:https://www.fest.fr/e/2442504
UID:2442504-1@fest.fr
END:VEVENT
END:VCALENDAR
