BEGIN:VCALENDAR
CALSCALE:GREGORIAN
VERSION:2.0
METHOD:PUBLISH 
X-WR-CALNAME:
BEGIN:VEVENT
DTSTART;TZID=Europe/Paris:20260515T203000
DTEND;TZID=Europe/Paris:20260515T213000
SUMMARY:La Naute : Be'Ding BeDingue Théâtre
CATEGORIE:Spectacles et Théâtre
GEO:46.03323100000000;2.27955190000000
LOCATION:Etang de la naute\, 23190 Champagnat\, France
URL:https://www.fest.fr/e/2442245
UID:2442245-1@fest.fr
END:VEVENT
END:VCALENDAR
