BEGIN:VCALENDAR
CALSCALE:GREGORIAN
VERSION:2.0
METHOD:PUBLISH 
X-WR-CALNAME:
BEGIN:VEVENT
DTSTART;TZID=Europe/Paris:20260528T123456
DTEND;TZID=Europe/Paris:20260528T133456
SUMMARY:Afterwork danses latines
CATEGORIE:Bals et Thés Dansants
GEO:44.85159000000000;0.48597000000000
LOCATION:14 Rue du Professeur Pozzi
Rocksane\, 24100 Bergerac\, France
URL:https://www.fest.fr/e/2441951
UID:2441951-1@fest.fr
END:VEVENT
END:VCALENDAR
