BEGIN:VCALENDAR
CALSCALE:GREGORIAN
VERSION:2.0
METHOD:PUBLISH 
X-WR-CALNAME:
BEGIN:VEVENT
DTSTART;TZID=Europe/Paris:20260415T123456
DTEND;TZID=Europe/Paris:20260415T133456
SUMMARY:Visite guidée Château de Bassy – Châteaux en fête
CATEGORIE:Expositions, Visites et Découvertes
GEO:45.01984000000000;0.33620000000000
LOCATION:1 Rue du Bosquet
Château de Bassy\, 24400 Mussidan\, France
URL:https://www.fest.fr/e/2441856
UID:2441856-1@fest.fr
END:VEVENT
END:VCALENDAR
