BEGIN:VCALENDAR
CALSCALE:GREGORIAN
VERSION:2.0
METHOD:PUBLISH 
X-WR-CALNAME:
BEGIN:VEVENT
DTSTART;TZID=Europe/Paris:20260417T100000
DTEND;TZID=Europe/Paris:20260417T110000
SUMMARY:Visite de la laiterie de la Nive sur réservation
CATEGORIE:Expositions, Visites et Découvertes
GEO:43.16806690000000;-1.22534840000000
LOCATION:26 Impasse Larre Xola\, 64220 Saint-Jean-le-Vieux\, France
URL:https://www.fest.fr/e/2441816
UID:2441816-1@fest.fr
END:VEVENT
BEGIN:VEVENT
DTSTART;TZID=Europe/Paris:20260417T110000
DTEND;TZID=Europe/Paris:20260417T120000
SUMMARY:Visite de la laiterie de la Nive sur réservation
CATEGORIE:Expositions, Visites et Découvertes
GEO:43.16806690000000;-1.22534840000000
LOCATION:26 Impasse Larre Xola\, 64220 Saint-Jean-le-Vieux\, France
URL:https://www.fest.fr/e/2441816
UID:2441816-2@fest.fr
END:VEVENT
END:VCALENDAR
