BEGIN:VCALENDAR
CALSCALE:GREGORIAN
VERSION:2.0
METHOD:PUBLISH 
X-WR-CALNAME:
BEGIN:VEVENT
DTSTART;TZID=Europe/Paris:20260523T203000
DTEND;TZID=Europe/Paris:20260523T213000
SUMMARY:Grand Loto
CATEGORIE:Lotos
GEO:45.27322270000000;1.63188201000000
LOCATION:Salle culture et Loisirs\, 19330 Saint-Germain-les-Vergnes\, France
URL:https://www.fest.fr/e/2441723
UID:2441723-1@fest.fr
END:VEVENT
END:VCALENDAR
