BEGIN:VCALENDAR
CALSCALE:GREGORIAN
VERSION:2.0
METHOD:PUBLISH 
X-WR-CALNAME:
BEGIN:VEVENT
DTSTART;TZID=Europe/Paris:20260808T180000
DTEND;TZID=Europe/Paris:20260808T190000
SUMMARY:Fête de la piscine
CATEGORIE:Fêtes et Animations
GEO:46.36778000000000;0.69022000000000
LOCATION:parc municipal\, 86320 Gouex\, France
URL:https://www.fest.fr/e/2441694
UID:2441694-1@fest.fr
END:VEVENT
END:VCALENDAR
