BEGIN:VCALENDAR
CALSCALE:GREGORIAN
VERSION:2.0
METHOD:PUBLISH 
X-WR-CALNAME:
BEGIN:VEVENT
DTSTART;TZID=Europe/Paris:20260703T123456
DTEND;TZID=Europe/Paris:20260703T133456
SUMMARY:Poitiers l'été
CATEGORIE:Fêtes et Animations
GEO:46.57466310000000;0.33292520000000
LOCATION:1 BIS Rue Léopold-Thézard\, 86000 Poitiers\, France
URL:https://www.fest.fr/e/2441683
UID:2441683-1@fest.fr
END:VEVENT
END:VCALENDAR
