BEGIN:VCALENDAR
CALSCALE:GREGORIAN
VERSION:2.0
METHOD:PUBLISH 
X-WR-CALNAME:
BEGIN:VEVENT
DTSTART;TZID=Europe/Paris:20260418T150000
DTEND;TZID=Europe/Paris:20260418T160000
SUMMARY:Après-midi littéraire
CATEGORIE:Littérature
GEO:45.33793800000000;1.04879300000000
LOCATION:8-10 Rue Jean Chavoix
Les Grandes Fenêtres\, 24160 Excideuil\, France
URL:https://www.fest.fr/e/2441596
UID:2441596-1@fest.fr
END:VEVENT
END:VCALENDAR
