BEGIN:VCALENDAR
CALSCALE:GREGORIAN
VERSION:2.0
METHOD:PUBLISH 
X-WR-CALNAME:
BEGIN:VEVENT
DTSTART;TZID=Europe/Paris:20260501T110000
DTEND;TZID=Europe/Paris:20260501T120000
SUMMARY:Randonnée gourmande
CATEGORIE:Randonnées et balades
GEO:45.61540130000000;1.21440231000000
LOCATION:1 Square de Pittem
Salle des fêtes\, 87800 La Meyze\, France
URL:https://www.fest.fr/e/2441296
UID:2441296-1@fest.fr
END:VEVENT
END:VCALENDAR
