BEGIN:VCALENDAR
CALSCALE:GREGORIAN
VERSION:2.0
METHOD:PUBLISH 
X-WR-CALNAME:
BEGIN:VEVENT
DTSTART;TZID=Europe/Paris:20260517T100000
DTEND;TZID=Europe/Paris:20260517T110000
SUMMARY:Les trois monts à vélo
CATEGORIE:Randonnées et balades
GEO:49.47178600000000;3.59128000000000
LOCATION:Chevregny\, Chevregny\, 02000 Chevregny\, France
URL:https://www.fest.fr/e/2441184
UID:2441184-1@fest.fr
END:VEVENT
END:VCALENDAR
