BEGIN:VCALENDAR
CALSCALE:GREGORIAN
VERSION:2.0
METHOD:PUBLISH 
X-WR-CALNAME:
BEGIN:VEVENT
DTSTART;TZID=Europe/Paris:20260509T150000
DTEND;TZID=Europe/Paris:20260509T160000
SUMMARY:Fête du Vélo
CATEGORIE:Fêtes et Animations
GEO:50.45719600000000;2.79258700000000
LOCATION:Place de la République\, Place de la République\, 62750 Loos-en-Gohelle\, France
URL:https://www.fest.fr/e/2441023
UID:2441023-1@fest.fr
END:VEVENT
END:VCALENDAR
