BEGIN:VCALENDAR
CALSCALE:GREGORIAN
VERSION:2.0
METHOD:PUBLISH 
X-WR-CALNAME:
BEGIN:VEVENT
DTSTART;TZID=Europe/Paris:20260423T123456
DTEND;TZID=Europe/Paris:20260423T133456
SUMMARY:Le rendez vous numérique
CATEGORIE:Stages, Ateliers et Initiations
GEO:43.79953000000000;-0.92014000000000
LOCATION:3 Rue de Pion
La CoWo\, 40465 Pontonx-sur-l'Adour\, France
URL:https://www.fest.fr/e/2441006
UID:2441006-1@fest.fr
END:VEVENT
END:VCALENDAR
