BEGIN:VCALENDAR
CALSCALE:GREGORIAN
VERSION:2.0
METHOD:PUBLISH 
X-WR-CALNAME:
BEGIN:VEVENT
DTSTART;TZID=Europe/Paris:20260625T203000
DTEND;TZID=Europe/Paris:20260625T213000
SUMMARY:Fun  N°1 / Festival des 7 Collines
CATEGORIE:Cirques
LOCATION:Parc François Mitterrand\, Plaine Achille\, 42000 Saint-Étienne\, France
URL:https://www.fest.fr/e/2440918
UID:2440918-1@fest.fr
END:VEVENT
BEGIN:VEVENT
DTSTART;TZID=Europe/Paris:20260628T203000
DTEND;TZID=Europe/Paris:20260628T213000
SUMMARY:Fun  N°1 / Festival des 7 Collines
CATEGORIE:Cirques
LOCATION:Parc François Mitterrand\, Plaine Achille\, 42000 Saint-Étienne\, France
URL:https://www.fest.fr/e/2440918
UID:2440918-2@fest.fr
END:VEVENT
BEGIN:VEVENT
DTSTART;TZID=Europe/Paris:20260630T203000
DTEND;TZID=Europe/Paris:20260630T213000
SUMMARY:Fun  N°1 / Festival des 7 Collines
CATEGORIE:Cirques
LOCATION:Parc François Mitterrand\, Plaine Achille\, 42000 Saint-Étienne\, France
URL:https://www.fest.fr/e/2440918
UID:2440918-3@fest.fr
END:VEVENT
BEGIN:VEVENT
DTSTART;TZID=Europe/Paris:20260702T203000
DTEND;TZID=Europe/Paris:20260702T213000
SUMMARY:Fun  N°1 / Festival des 7 Collines
CATEGORIE:Cirques
LOCATION:Parc François Mitterrand\, Plaine Achille\, 42000 Saint-Étienne\, France
URL:https://www.fest.fr/e/2440918
UID:2440918-4@fest.fr
END:VEVENT
BEGIN:VEVENT
DTSTART;TZID=Europe/Paris:20260703T203000
DTEND;TZID=Europe/Paris:20260703T213000
SUMMARY:Fun  N°1 / Festival des 7 Collines
CATEGORIE:Cirques
LOCATION:Parc François Mitterrand\, Plaine Achille\, 42000 Saint-Étienne\, France
URL:https://www.fest.fr/e/2440918
UID:2440918-5@fest.fr
END:VEVENT
BEGIN:VEVENT
DTSTART;TZID=Europe/Paris:20260704T203000
DTEND;TZID=Europe/Paris:20260704T213000
SUMMARY:Fun  N°1 / Festival des 7 Collines
CATEGORIE:Cirques
LOCATION:Parc François Mitterrand\, Plaine Achille\, 42000 Saint-Étienne\, France
URL:https://www.fest.fr/e/2440918
UID:2440918-6@fest.fr
END:VEVENT
END:VCALENDAR
