BEGIN:VCALENDAR
CALSCALE:GREGORIAN
VERSION:2.0
METHOD:PUBLISH 
X-WR-CALNAME:
BEGIN:VEVENT
DTSTART;TZID=Europe/Paris:20260523T220000
DTEND;TZID=Europe/Paris:20260523T230000
SUMMARY:Neroli
CATEGORIE:Concerts et Musique
GEO:51.04626200000000;2.38248300000000
LOCATION:Le LAAC\, 302 Avenue des Bordées\, 59140 Dunkerque\, France
URL:https://www.fest.fr/e/2440877
UID:2440877-1@fest.fr
END:VEVENT
END:VCALENDAR
