BEGIN:VCALENDAR
CALSCALE:GREGORIAN
VERSION:2.0
METHOD:PUBLISH 
X-WR-CALNAME:
BEGIN:VEVENT
DTSTART;TZID=Europe/Paris:20260529T203000
DTEND;TZID=Europe/Paris:20260529T213000
SUMMARY:Nico en Vrai - Trop Gentil, Tournée
CATEGORIE:Spectacles et théâtre
GEO:48.92680928970200;2.43963019165900
LOCATION:ESPACE CULTUREL DU PARC\, 120, rue Sadi Carnot\, 93700 Drancy\, France
URL:https://www.fest.fr/e/2440841
UID:2440841-1@fest.fr
END:VEVENT
END:VCALENDAR
