BEGIN:VCALENDAR
CALSCALE:GREGORIAN
VERSION:2.0
METHOD:PUBLISH 
X-WR-CALNAME:
BEGIN:VEVENT
DTSTART;TZID=Europe/Paris:20260503T103000
DTEND;TZID=Europe/Paris:20260503T113000
SUMMARY:Convergence vélo vers Rochefort
CATEGORIE:Randonnées et balades
GEO:45.91859900000000;-0.88826000000000
LOCATION:Devant la mairie
place de Verdun\, 17430 Saint-Hippolyte\, France
URL:https://www.fest.fr/e/2440811
UID:2440811-1@fest.fr
END:VEVENT
END:VCALENDAR
