BEGIN:VCALENDAR
CALSCALE:GREGORIAN
VERSION:2.0
METHOD:PUBLISH 
X-WR-CALNAME:
BEGIN:VEVENT
DTSTART;TZID=Europe/Paris:20260426T140000
DTEND;TZID=Europe/Paris:20260426T150000
SUMMARY:Loto rifle
CATEGORIE:Lotos
GEO:46.53170900000000;3.31335800000000
LOCATION:Salle des fêtes\, 03000 Bressolles\, France
URL:https://www.fest.fr/e/2440723
UID:2440723-1@fest.fr
END:VEVENT
END:VCALENDAR
