BEGIN:VCALENDAR
CALSCALE:GREGORIAN
VERSION:2.0
METHOD:PUBLISH 
X-WR-CALNAME:
BEGIN:VEVENT
DTSTART;TZID=Europe/Paris:20260419T190000
DTEND;TZID=Europe/Paris:20260419T200000
SUMMARY:Spectacle - Paroles, par-ci, par-là…
CATEGORIE:Spectacles et Théâtre
GEO:46.17809200000000;-1.15504300000000
LOCATION:4 rue du Moulin de Vendôme
La Kanopé\, 17140 Lagord\, France
URL:https://www.fest.fr/e/2440706
UID:2440706-1@fest.fr
END:VEVENT
END:VCALENDAR
