BEGIN:VCALENDAR
CALSCALE:GREGORIAN
VERSION:2.0
METHOD:PUBLISH 
X-WR-CALNAME:
BEGIN:VEVENT
DTSTART;TZID=Europe/Paris:20260422T143000
DTEND;TZID=Europe/Paris:20260422T153000
SUMMARY:Atelier duo Coulage!
CATEGORIE:Stages, Ateliers et Initiations
GEO:45.84436100000000;1.24638100000000
LOCATION:CRAFT - Centre de recherche sur les arts du feu et de la terre\, 142 avenue Emile Labussière\, 87100 Limoges\, France
URL:https://www.fest.fr/e/2440541
UID:2440541-1@fest.fr
END:VEVENT
END:VCALENDAR
