BEGIN:VCALENDAR
CALSCALE:GREGORIAN
VERSION:2.0
METHOD:PUBLISH 
X-WR-CALNAME:
BEGIN:VEVENT
DTSTART;TZID=Europe/Paris:20260523T210000
DTEND;TZID=Europe/Paris:20260523T220000
SUMMARY:Visite des collections au phare de vélo
CATEGORIE:Expositions, Visites et Découvertes
GEO:46.97367700000000;-0.21802100000000
LOCATION:Musée Henri Barré\, 7 Rue Marie de la Tour\, 79100 Thouars\, France
URL:https://www.fest.fr/e/2440496
UID:2440496-1@fest.fr
END:VEVENT
BEGIN:VEVENT
DTSTART;TZID=Europe/Paris:20260523T220000
DTEND;TZID=Europe/Paris:20260523T230000
SUMMARY:Visite des collections au phare de vélo
CATEGORIE:Expositions, Visites et Découvertes
GEO:46.97367700000000;-0.21802100000000
LOCATION:Musée Henri Barré\, 7 Rue Marie de la Tour\, 79100 Thouars\, France
URL:https://www.fest.fr/e/2440496
UID:2440496-2@fest.fr
END:VEVENT
END:VCALENDAR
