BEGIN:VCALENDAR
CALSCALE:GREGORIAN
VERSION:2.0
METHOD:PUBLISH 
X-WR-CALNAME:
BEGIN:VEVENT
DTSTART;TZID=Europe/Paris:20260429T134500
DTEND;TZID=Europe/Paris:20260429T144500
SUMMARY:La Captive du désert
CATEGORIE:Spectacles et Théâtre
GEO:47.39536200000000;0.69844500000000
LOCATION:Studio\, 2, rue des Ursulines\, 37000 Tours\, France
URL:https://www.fest.fr/e/2440435
UID:2440435-1@fest.fr
END:VEVENT
END:VCALENDAR
