BEGIN:VCALENDAR
CALSCALE:GREGORIAN
VERSION:2.0
METHOD:PUBLISH 
X-WR-CALNAME:
BEGIN:VEVENT
DTSTART;TZID=Europe/Paris:20260618T180000
DTEND;TZID=Europe/Paris:20260618T190000
SUMMARY:Roadshow Minalogic - Saint-Étienne
CATEGORIE:Conférences, Forums et Débats
GEO:45.45325400000000;4.38561200000000
LOCATION:Bâtiment des Hautes Technologies\, 20 Rue Professeur Benoît Lauras\, 42000 Saint-Étienne\, France
URL:https://www.fest.fr/e/2440408
UID:2440408-1@fest.fr
END:VEVENT
END:VCALENDAR
