BEGIN:VCALENDAR
CALSCALE:GREGORIAN
VERSION:2.0
METHOD:PUBLISH 
X-WR-CALNAME:
BEGIN:VEVENT
DTSTART;TZID=Europe/Paris:20260418T123456
DTEND;TZID=Europe/Paris:20260418T133456
SUMMARY:ILLUSTRE THÉÂTRE : MA FAMILLE NUCLÉAIRE
CATEGORIE:Spectacles et Théâtre
GEO:43.45000000000000;3.41666700000000
LOCATION:22 Avenue de la Gare du Midi\, 34120 Pézenas\, France
URL:https://www.fest.fr/e/2440149
UID:2440149-1@fest.fr
END:VEVENT
END:VCALENDAR
