BEGIN:VCALENDAR
CALSCALE:GREGORIAN
VERSION:2.0
METHOD:PUBLISH 
X-WR-CALNAME:
BEGIN:VEVENT
DTSTART;TZID=Europe/Paris:20260729T140000
DTEND;TZID=Europe/Paris:20260729T150000
SUMMARY:Ateliers "modelage" de l'été
CATEGORIE:Stages, Ateliers et Initiations
GEO:48.68782230000000;-0.83664810000000
LOCATION:3 Rue du Musée
Le Placître\, 50850 Ger\, France
URL:https://www.fest.fr/e/2440124
UID:2440124-1@fest.fr
END:VEVENT
END:VCALENDAR
