BEGIN:VCALENDAR
CALSCALE:GREGORIAN
VERSION:2.0
METHOD:PUBLISH 
X-WR-CALNAME:
BEGIN:VEVENT
DTSTART;TZID=Europe/Paris:20260424T200000
DTEND;TZID=Europe/Paris:20260424T210000
SUMMARY:Jazz en chais | Nicolas Gardel et Guest
CATEGORIE:Concerts et Musique
GEO:44.77422700000000;0.51816160000000
LOCATION:Château de la Jaubertie\, 24560 Colombier\, France
URL:https://www.fest.fr/e/2439887
UID:2439887-1@fest.fr
END:VEVENT
END:VCALENDAR
