BEGIN:VCALENDAR
CALSCALE:GREGORIAN
VERSION:2.0
METHOD:PUBLISH 
X-WR-CALNAME:
BEGIN:VEVENT
DTSTART;TZID=Europe/Paris:20260522T203000
DTEND;TZID=Europe/Paris:20260522T213000
SUMMARY:DJ Set Electro & House au Meeple
CATEGORIE:Clubbing et soirées DJ
GEO:48.76009572163638;1.92009177758788
LOCATION:Meeple\, Rond point Laurent Schwartz\, 78310 Maurepas\, France
URL:https://www.fest.fr/e/2439773
UID:2439773-1@fest.fr
END:VEVENT
END:VCALENDAR
