BEGIN:VCALENDAR
CALSCALE:GREGORIAN
VERSION:2.0
METHOD:PUBLISH 
X-WR-CALNAME:
BEGIN:VEVENT
DTSTART;TZID=Europe/Paris:20260613T140000
DTEND;TZID=Europe/Paris:20260613T150000
SUMMARY:Visite de la nécropole gallo-romaine de Sauvageon (Saint-Quirin)
CATEGORIE:Expositions, Visites et Découvertes
GEO:48.55373200000000;7.17755600000000
LOCATION:Site du Sauvageon (Saint-Quirin)\, route forestière d'Abreschviller (Saint-Quirin\, 57560 Saint-Quirin\, France
URL:https://www.fest.fr/e/2439574
UID:2439574-1@fest.fr
END:VEVENT
END:VCALENDAR
