BEGIN:VCALENDAR
CALSCALE:GREGORIAN
VERSION:2.0
METHOD:PUBLISH 
X-WR-CALNAME:
BEGIN:VEVENT
DTSTART;TZID=Europe/Paris:20260612T101500
DTEND;TZID=Europe/Paris:20260612T111500
SUMMARY:Atelier Fortification médiévale
CATEGORIE:Stages, Ateliers et Initiations
GEO:48.85819000000000;2.31289400000000
LOCATION:Musée des plans-reliefs\, 129 Rue de Grenelle\, 75007 Paris 7e\, France
URL:https://www.fest.fr/e/2439395
UID:2439395-1@fest.fr
END:VEVENT
BEGIN:VEVENT
DTSTART;TZID=Europe/Paris:20260612T131500
DTEND;TZID=Europe/Paris:20260612T141500
SUMMARY:Atelier Fortification médiévale
CATEGORIE:Stages, Ateliers et Initiations
GEO:48.85819000000000;2.31289400000000
LOCATION:Musée des plans-reliefs\, 129 Rue de Grenelle\, 75007 Paris 7e\, France
URL:https://www.fest.fr/e/2439395
UID:2439395-2@fest.fr
END:VEVENT
END:VCALENDAR
