BEGIN:VCALENDAR
CALSCALE:GREGORIAN
VERSION:2.0
METHOD:PUBLISH 
X-WR-CALNAME:
BEGIN:VEVENT
DTSTART;TZID=Europe/Paris:20260613T143000
DTEND;TZID=Europe/Paris:20260613T153000
SUMMARY:Visites flash des collections archéologiques
CATEGORIE:Expositions, Visites et Découvertes
GEO:43.21542800000000;0.87897000000000
LOCATION:Musée de l’Aurignacien\, Avenue Benabarre\, 31420 Aurignac\, France
URL:https://www.fest.fr/e/2439134
UID:2439134-1@fest.fr
END:VEVENT
BEGIN:VEVENT
DTSTART;TZID=Europe/Paris:20260614T143000
DTEND;TZID=Europe/Paris:20260614T153000
SUMMARY:Visites flash des collections archéologiques
CATEGORIE:Expositions, Visites et Découvertes
GEO:43.21542800000000;0.87897000000000
LOCATION:Musée de l’Aurignacien\, Avenue Benabarre\, 31420 Aurignac\, France
URL:https://www.fest.fr/e/2439134
UID:2439134-2@fest.fr
END:VEVENT
END:VCALENDAR
