BEGIN:VCALENDAR
CALSCALE:GREGORIAN
VERSION:2.0
METHOD:PUBLISH 
X-WR-CALNAME:
BEGIN:VEVENT
DTSTART;TZID=Europe/Paris:20260613T100000
DTEND;TZID=Europe/Paris:20260613T110000
SUMMARY:Les lampes du fonds ancien
CATEGORIE:Expositions, Visites et Découvertes
GEO:45.76052900000000;4.82004000000000
LOCATION:Lugdunum - musée et théâtres romains\, 17 rue Cléberg\, 69005 Lyon 5e\, France
URL:https://www.fest.fr/e/2439050
UID:2439050-1@fest.fr
END:VEVENT
BEGIN:VEVENT
DTSTART;TZID=Europe/Paris:20260614T100000
DTEND;TZID=Europe/Paris:20260614T110000
SUMMARY:Les lampes du fonds ancien
CATEGORIE:Expositions, Visites et Découvertes
GEO:45.76052900000000;4.82004000000000
LOCATION:Lugdunum - musée et théâtres romains\, 17 rue Cléberg\, 69005 Lyon 5e\, France
URL:https://www.fest.fr/e/2439050
UID:2439050-2@fest.fr
END:VEVENT
END:VCALENDAR
