BEGIN:VCALENDAR
CALSCALE:GREGORIAN
VERSION:2.0
METHOD:PUBLISH 
X-WR-CALNAME:
BEGIN:VEVENT
DTSTART;TZID=Europe/Paris:20260527T100000
DTEND;TZID=Europe/Paris:20260527T110000
SUMMARY:Atelier : création de Kokedama
CATEGORIE:Stages, Ateliers et Initiations
GEO:44.16025100000000;4.14700100000000
LOCATION:ESAT des Gardons\, 1218, route de Mazac\, 30340 Salindres\, France
URL:https://www.fest.fr/e/2439041
UID:2439041-1@fest.fr
END:VEVENT
END:VCALENDAR
