BEGIN:VCALENDAR
CALSCALE:GREGORIAN
VERSION:2.0
METHOD:PUBLISH 
X-WR-CALNAME:
BEGIN:VEVENT
DTSTART;TZID=Europe/Paris:20260523T180000
DTEND;TZID=Europe/Paris:20260523T190000
SUMMARY:Nocturne gratuite exceptionnelle aux Étincelles
CATEGORIE:Conférences, Forums et Débats
GEO:48.89575200000000;2.38797600000000
LOCATION:Cité des sciences et de l'Industrie\, 30 avenue Corentin Cariou\, 75019 Paris 19e\, France
URL:https://www.fest.fr/e/2438759
UID:2438759-1@fest.fr
END:VEVENT
END:VCALENDAR
