BEGIN:VCALENDAR
CALSCALE:GREGORIAN
VERSION:2.0
METHOD:PUBLISH 
X-WR-CALNAME:
BEGIN:VEVENT
DTSTART;TZID=Europe/Paris:20260527T140000
DTEND;TZID=Europe/Paris:20260527T150000
SUMMARY:Session jeux de société nature
CATEGORIE:Jeux et Concours
GEO:47.24021800000000;6.02723500000000
LOCATION:Médiathèque Pierre Bayle\, 27 rue de la république\, 25000 Besançon\, France
URL:https://www.fest.fr/e/2438699
UID:2438699-1@fest.fr
END:VEVENT
END:VCALENDAR
