BEGIN:VCALENDAR
CALSCALE:GREGORIAN
VERSION:2.0
METHOD:PUBLISH 
X-WR-CALNAME:
BEGIN:VEVENT
DTSTART;TZID=Europe/Paris:20260624T143000
DTEND;TZID=Europe/Paris:20260624T153000
SUMMARY:Les lutins de la vallée du Dan
CATEGORIE:Randonnées et balades
GEO:49.23242500000000;-0.33334600000000
LOCATION:Lieu de rdv donné à la réservation\, Lieu de rdv donné à la réservationPas de descriptionBIEVILLE-BEUVILLE\, 14112 Biéville-Beuville\, France
URL:https://www.fest.fr/e/2438680
UID:2438680-1@fest.fr
END:VEVENT
END:VCALENDAR
