BEGIN:VCALENDAR
CALSCALE:GREGORIAN
VERSION:2.0
METHOD:PUBLISH 
X-WR-CALNAME:
BEGIN:VEVENT
DTSTART;TZID=Europe/Paris:20260508T100000
DTEND;TZID=Europe/Paris:20260508T110000
SUMMARY:Exposition Peinture et Artisanat
CATEGORIE:Expositions, Visites et Découvertes
GEO:43.95583187717830;5.02872184567524
LOCATION:SALLE DES FETES DU VIEIL HOPITAL\, Rue de l'hôpital\, 84740 Velleron\, France
URL:https://www.fest.fr/e/2438645
UID:2438645-1@fest.fr
END:VEVENT
END:VCALENDAR
