BEGIN:VCALENDAR
CALSCALE:GREGORIAN
VERSION:2.0
METHOD:PUBLISH 
X-WR-CALNAME:
BEGIN:VEVENT
DTSTART;TZID=Europe/Paris:20260506T101500
DTEND;TZID=Europe/Paris:20260506T111500
SUMMARY:Heure du conte
CATEGORIE:Littérature
GEO:43.17730266481117;5.60774794212799
LOCATION:Médiathèque Simone-Veil\, Rue de l'ancien hôpital\, 13600 La Ciotat\, France
URL:https://www.fest.fr/e/2438588
UID:2438588-1@fest.fr
END:VEVENT
BEGIN:VEVENT
DTSTART;TZID=Europe/Paris:20260520T101500
DTEND;TZID=Europe/Paris:20260520T111500
SUMMARY:Heure du conte
CATEGORIE:Littérature
GEO:43.17730266481117;5.60774794212799
LOCATION:Médiathèque Simone-Veil\, Rue de l'ancien hôpital\, 13600 La Ciotat\, France
URL:https://www.fest.fr/e/2438588
UID:2438588-2@fest.fr
END:VEVENT
END:VCALENDAR
