BEGIN:VCALENDAR
CALSCALE:GREGORIAN
VERSION:2.0
METHOD:PUBLISH 
X-WR-CALNAME:
BEGIN:VEVENT
DTSTART;TZID=Europe/Paris:20260715T100000
DTEND;TZID=Europe/Paris:20260715T110000
SUMMARY:Les Jardins d'Hélix : Un Jour Un Producteur
CATEGORIE:Expositions, Visites et Découvertes
GEO:46.35827980000000;4.31211130000000
LOCATION:106 Route de Chassagne
Les Jardins d'Hélix - 106 route de Chassagne\, 71800 Bois-Sainte-Marie\, France
URL:https://www.fest.fr/e/2438539
UID:2438539-1@fest.fr
END:VEVENT
END:VCALENDAR
