BEGIN:VCALENDAR
CALSCALE:GREGORIAN
VERSION:2.0
METHOD:PUBLISH 
X-WR-CALNAME:
BEGIN:VEVENT
DTSTART;TZID=Europe/Paris:20260606T100000
DTEND;TZID=Europe/Paris:20260606T110000
SUMMARY:Rendez-vous aux jardins : jardin potager de Lantilly
CATEGORIE:Expositions, Visites et Découvertes
GEO:47.54543800000000;4.37588300000000
LOCATION:9, rue Saint-Antoine
Château\, 21140 Lantilly\, France
URL:https://www.fest.fr/e/2438512
UID:2438512-1@fest.fr
END:VEVENT
BEGIN:VEVENT
DTSTART;TZID=Europe/Paris:20260606T140000
DTEND;TZID=Europe/Paris:20260606T150000
SUMMARY:Rendez-vous aux jardins : jardin potager de Lantilly
CATEGORIE:Expositions, Visites et Découvertes
GEO:47.54543800000000;4.37588300000000
LOCATION:9, rue Saint-Antoine
Château\, 21140 Lantilly\, France
URL:https://www.fest.fr/e/2438512
UID:2438512-2@fest.fr
END:VEVENT
END:VCALENDAR
