BEGIN:VCALENDAR
CALSCALE:GREGORIAN
VERSION:2.0
METHOD:PUBLISH 
X-WR-CALNAME:
BEGIN:VEVENT
DTSTART;TZID=Europe/Paris:20260512T180000
DTEND;TZID=Europe/Paris:20260512T190000
SUMMARY:Théâtre : Clochette a raté sa vie
CATEGORIE:Spectacles et Théâtre
GEO:43.52467200000000;5.42025300000000
LOCATION:1bis place Victor Schoelcher
Théâtre du Bois de l’Aune\, 13090 Aix-en-Provence\, France
URL:https://www.fest.fr/e/2438501
UID:2438501-1@fest.fr
END:VEVENT
END:VCALENDAR
