BEGIN:VCALENDAR
CALSCALE:GREGORIAN
VERSION:2.0
METHOD:PUBLISH 
X-WR-CALNAME:
BEGIN:VEVENT
DTSTART;TZID=Europe/Paris:20260421T140000
DTEND;TZID=Europe/Paris:20260421T150000
SUMMARY:La Cabre d'Or : Découverte du jeu avec des sorties semi-guidées
CATEGORIE:Randonnées et balades
GEO:43.71862200000000;4.78426300000000
LOCATION:Centre-Ville
Place Charloun Rieu\, 13520 Paradou\, France
URL:https://www.fest.fr/e/2438475
UID:2438475-1@fest.fr
END:VEVENT
END:VCALENDAR
