BEGIN:VCALENDAR
CALSCALE:GREGORIAN
VERSION:2.0
METHOD:PUBLISH 
X-WR-CALNAME:
BEGIN:VEVENT
DTSTART;TZID=Europe/Paris:20260503T090000
DTEND;TZID=Europe/Paris:20260503T100000
SUMMARY:Randonnée à la découverte des plantes sauvages
CATEGORIE:Randonnées et balades
GEO:48.92150900000000;7.59029000000000
LOCATION:Rue de Baerenthal\, 67110 Zinswiller\, France
URL:https://www.fest.fr/e/2438431
UID:2438431-1@fest.fr
END:VEVENT
END:VCALENDAR
