BEGIN:VCALENDAR
CALSCALE:GREGORIAN
VERSION:2.0
METHOD:PUBLISH 
X-WR-CALNAME:
BEGIN:VEVENT
DTSTART;TZID=Europe/Paris:20260423T161500
DTEND;TZID=Europe/Paris:20260423T171500
SUMMARY:La cité Plantagenêt
CATEGORIE:Expositions, Visites et Découvertes
GEO:48.00835430000000;0.19685780000000
LOCATION:43 Grande Rue
Maison du Pilier-Rouge\, 72000 Le Mans\, France
URL:https://www.fest.fr/e/2438430
UID:2438430-1@fest.fr
END:VEVENT
END:VCALENDAR
