BEGIN:VCALENDAR
CALSCALE:GREGORIAN
VERSION:2.0
METHOD:PUBLISH 
X-WR-CALNAME:
BEGIN:VEVENT
DTSTART;TZID=Europe/Paris:20260424T143000
DTEND;TZID=Europe/Paris:20260424T153000
SUMMARY:Chasse aux Kuriosités Archikurieux
CATEGORIE:Expositions, Visites et Découvertes
GEO:47.87341870000000;-3.91756700000000
LOCATION:Office de Tourisme
Quai d'Aiguillon\, 29900 Concarneau\, France
URL:https://www.fest.fr/e/2438365
UID:2438365-1@fest.fr
END:VEVENT
END:VCALENDAR
