BEGIN:VCALENDAR
CALSCALE:GREGORIAN
VERSION:2.0
METHOD:PUBLISH 
X-WR-CALNAME:
BEGIN:VEVENT
DTSTART;TZID=Europe/Paris:20260807T123456
DTEND;TZID=Europe/Paris:20260807T133456
SUMMARY:VAUDREUILLE EN FETE
CATEGORIE:Fêtes et Animations
GEO:43.42578690000000;1.98098700000000
LOCATION:Promenade du Laudot\, 31250 Vaudreuille\, France
URL:https://www.fest.fr/e/2438307
UID:2438307-1@fest.fr
END:VEVENT
END:VCALENDAR
