BEGIN:VCALENDAR
CALSCALE:GREGORIAN
VERSION:2.0
METHOD:PUBLISH 
X-WR-CALNAME:
BEGIN:VEVENT
DTSTART;TZID=Europe/Paris:20260606T123456
DTEND;TZID=Europe/Paris:20260606T133456
SUMMARY:FÊTE DE L’ÉTÉ
CATEGORIE:Fêtes et Animations
GEO:43.66165700000000;3.45932500000000
LOCATION:La Placette\, 34725 Saint-Félix-de-Lodez\, France
URL:https://www.fest.fr/e/2438287
UID:2438287-1@fest.fr
END:VEVENT
END:VCALENDAR
