BEGIN:VCALENDAR
CALSCALE:GREGORIAN
VERSION:2.0
METHOD:PUBLISH 
X-WR-CALNAME:
BEGIN:VEVENT
DTSTART;TZID=Europe/Paris:20260623T123456
DTEND;TZID=Europe/Paris:20260623T133456
SUMMARY:ATELIER PEINTURE DE SELKI
CATEGORIE:Stages, Ateliers et Initiations
GEO:43.59951000000000;3.90185000000000
LOCATION:216 Rue Elie Wiesel\, 34000 Montpellier\, France
URL:https://www.fest.fr/e/2438275
UID:2438275-1@fest.fr
END:VEVENT
END:VCALENDAR
