BEGIN:VCALENDAR
CALSCALE:GREGORIAN
VERSION:2.0
METHOD:PUBLISH 
X-WR-CALNAME:
BEGIN:VEVENT
DTSTART;TZID=Europe/Paris:20260415T123456
DTEND;TZID=Europe/Paris:20260415T133456
SUMMARY:CYCLE DE CONFÉRENCES AU MUSÉE SOULAGES : EXPOSITION HIROSHI SUGIMOTO
CATEGORIE:Conférences, Forums et Débats
GEO:44.35190000000000;2.56810000000000
LOCATION:Jardin du Foirail
avenue Victor Hugo\, 12000 Rodez\, France
URL:https://www.fest.fr/e/2438172
UID:2438172-1@fest.fr
END:VEVENT
BEGIN:VEVENT
DTSTART;TZID=Europe/Paris:20260520T123456
DTEND;TZID=Europe/Paris:20260520T133456
SUMMARY:CYCLE DE CONFÉRENCES AU MUSÉE SOULAGES : EXPOSITION HIROSHI SUGIMOTO
CATEGORIE:Conférences, Forums et Débats
GEO:44.35190000000000;2.56810000000000
LOCATION:Jardin du Foirail
avenue Victor Hugo\, 12000 Rodez\, France
URL:https://www.fest.fr/e/2438172
UID:2438172-2@fest.fr
END:VEVENT
BEGIN:VEVENT
DTSTART;TZID=Europe/Paris:20260603T123456
DTEND;TZID=Europe/Paris:20260603T133456
SUMMARY:CYCLE DE CONFÉRENCES AU MUSÉE SOULAGES : EXPOSITION HIROSHI SUGIMOTO
CATEGORIE:Conférences, Forums et Débats
GEO:44.35190000000000;2.56810000000000
LOCATION:Jardin du Foirail
avenue Victor Hugo\, 12000 Rodez\, France
URL:https://www.fest.fr/e/2438172
UID:2438172-3@fest.fr
END:VEVENT
BEGIN:VEVENT
DTSTART;TZID=Europe/Paris:20260617T123456
DTEND;TZID=Europe/Paris:20260617T133456
SUMMARY:CYCLE DE CONFÉRENCES AU MUSÉE SOULAGES : EXPOSITION HIROSHI SUGIMOTO
CATEGORIE:Conférences, Forums et Débats
GEO:44.35190000000000;2.56810000000000
LOCATION:Jardin du Foirail
avenue Victor Hugo\, 12000 Rodez\, France
URL:https://www.fest.fr/e/2438172
UID:2438172-4@fest.fr
END:VEVENT
BEGIN:VEVENT
DTSTART;TZID=Europe/Paris:20260913T123456
DTEND;TZID=Europe/Paris:20260913T133456
SUMMARY:CYCLE DE CONFÉRENCES AU MUSÉE SOULAGES : EXPOSITION HIROSHI SUGIMOTO
CATEGORIE:Conférences, Forums et Débats
GEO:44.35190000000000;2.56810000000000
LOCATION:Jardin du Foirail
avenue Victor Hugo\, 12000 Rodez\, France
URL:https://www.fest.fr/e/2438172
UID:2438172-5@fest.fr
END:VEVENT
END:VCALENDAR
