BEGIN:VCALENDAR
CALSCALE:GREGORIAN
VERSION:2.0
METHOD:PUBLISH 
X-WR-CALNAME:
BEGIN:VEVENT
DTSTART;TZID=Europe/Paris:20260714T093000
DTEND;TZID=Europe/Paris:20260714T103000
SUMMARY:Courses de Caisses à savon de Clères, 3ème édition
CATEGORIE:Sports
GEO:49.60448270000000;1.10528210000000
LOCATION:Rue Louis Duthil\, 76690 Clères\, France
URL:https://www.fest.fr/e/2438124
UID:2438124-1@fest.fr
END:VEVENT
BEGIN:VEVENT
DTSTART;TZID=Europe/Paris:20260714T133000
DTEND;TZID=Europe/Paris:20260714T143000
SUMMARY:Courses de Caisses à savon de Clères, 3ème édition
CATEGORIE:Sports
GEO:49.60448270000000;1.10528210000000
LOCATION:Rue Louis Duthil\, 76690 Clères\, France
URL:https://www.fest.fr/e/2438124
UID:2438124-2@fest.fr
END:VEVENT
END:VCALENDAR
